BEGIN:VCALENDAR
VERSION:2.0
PRODID:-//The Arts Council Of Wilmington/NHC - ECPv6.15.20//NONSGML v1.0//EN
CALSCALE:GREGORIAN
METHOD:PUBLISH
X-WR-CALNAME:The Arts Council Of Wilmington/NHC
X-ORIGINAL-URL:https://www.artswilmington.org
X-WR-CALDESC:Events for The Arts Council Of Wilmington/NHC
REFRESH-INTERVAL;VALUE=DURATION:PT1H
X-Robots-Tag:noindex
X-PUBLISHED-TTL:PT1H
BEGIN:VTIMEZONE
TZID:America/New_York
BEGIN:DAYLIGHT
TZOFFSETFROM:-0500
TZOFFSETTO:-0400
TZNAME:EDT
DTSTART:20250309T070000
END:DAYLIGHT
BEGIN:STANDARD
TZOFFSETFROM:-0400
TZOFFSETTO:-0500
TZNAME:EST
DTSTART:20251102T060000
END:STANDARD
BEGIN:DAYLIGHT
TZOFFSETFROM:-0500
TZOFFSETTO:-0400
TZNAME:EDT
DTSTART:20260308T070000
END:DAYLIGHT
BEGIN:STANDARD
TZOFFSETFROM:-0400
TZOFFSETTO:-0500
TZNAME:EST
DTSTART:20261101T060000
END:STANDARD
BEGIN:DAYLIGHT
TZOFFSETFROM:-0500
TZOFFSETTO:-0400
TZNAME:EDT
DTSTART:20270314T070000
END:DAYLIGHT
BEGIN:STANDARD
TZOFFSETFROM:-0400
TZOFFSETTO:-0500
TZNAME:EST
DTSTART:20271107T060000
END:STANDARD
END:VTIMEZONE
BEGIN:VEVENT
DTSTART;TZID=America/New_York:20260424T080000
DTEND;TZID=America/New_York:20260607T170000
DTSTAMP:20260424T013529
CREATED:20260401T171722Z
LAST-MODIFIED:20260407T181952Z
UID:11430-1777017600-1780851600@www.artswilmington.org
SUMMARY:“Desire Path” Featuring Hannah Fridholm & Lisa J. Mullikin
DESCRIPTION:Art in Bloom Gallery is eager to introduce you to the ceramic sculptures and paintings of guest artists Hannah Fridholm & Lisa J. Mullikin – two recent arrivals to our area with fresh perspectives to share! Ceramicist Hannah Fridholm explores the fragility of memory and the fleeting moments that shape our lives\, using clay as a medium to embody transformation and impermanence. Through hand-built sculptures and textured forms\, she captures the delicate nature of human experiences. Painter & architect Lisa J. Mullikin focuses on the relationships we have with regional landscapes\, and the cultural connections we have to place. Since moving to Wilmington\, Lisa’s oils have reflected the area’s unique relationships between the placid land\, dynamic sky and the formidable ocean. \nIn the landscape of human experience\, a “desire path” is the unplanned route carved by choices\, losses\, and transformations. Through incorporating mixed media into their creations\, Hannah & Lisa explore the intersections between nature\, history\, and imagination – the transitory moments when we move from one space to the next. This is not unlike our lives in transition\, when we are heading down a certain path but suddenly feel compelled to walk through the untrodden meadow searching and hoping for something wild and unexpected. Altogether\, “Desire Path” honors memories and the trail we carve into the earth when we stray from the path. \nJoin us in the gallery on Sunday\, April 26th\, 2-5pm for our Artist Reception. Enjoy special refreshments\, meet our artists\, and enjoy live music by jazz guitarist Roger Davis! This exhibit will run through June 7th\, alongside a new selection of featured works by our 30+ Gallery Artists. \nAbout the Artists \nClay\, for Hannah Fridholm\, is not just a material but a vessel of memory. It has a life of its own\, requiring attention and care throughout its journey. Like us\, it is vulnerable — subject to cracking\, breaking\, and sometimes even exploding. The process of working with clay becomes a sanctuary\, a space where emotions can be expressed and explored. The fragile results of this process mirror the fragility of our own lives. In creating these precarious objects\, Hannah’s aim is to make a statement about the precious\, fleeting nature of existence. \nHannah’s newest works are a testament to the precious\, fleeting nature of life and the resilience found in nature’s lifecycles. Hannah works with clay because it is a material that embodies memory\, mirroring the fragility of life. These sculptures act as shrines to moments lost\, realized\, or imagined. By turning the scars of life into decorative regalia\, these figures wear their histories as adornments. \nLisa J. Mullikin’s painting career has been a continuation of her architecture career. She continues to be intrigued by nature\, light\, and space\, and what decisions we make when we are passing through “in-between spaces” – those moments when we move from one space to the next\, when the light opens up or closes down and we become hyper aware of our surroundings. \nMany of Lisa’s pieces explore these dreamlike experiences where will and acceptance collide. Her recent series add a layer of exploration into the interconnectedness of life. To Lisa\, the women in these paintings quietly hold up the world and protect us. They are a part of nature\, as are the animals\, who are always messengers\, storytellers\, and deep thinkers. They free us to trust our intuition. They compel us to be our wild selves. Through making\, Lisa investigates a world where she can be the animal.
URL:https://www.artswilmington.org/event/desire-path-featuring-hannah-fridholm-lisa-j-mullikin/
LOCATION:970 Inspiration Drive\, Wilmington\, NC 28405\, 970 Inspiration Drive\, Wilmington\, NC\, 28405\, United States
CATEGORIES:Events,Visual Arts
ATTACH;FMTTYPE=image/jpeg:https://www.artswilmington.org/wp-content/uploads/2026/04/LM-pinkcake_24x20_300dpi.jpg
ORGANIZER;CN="Amy Grant":MAILTO:artinbloomgallery@gmail.com
END:VEVENT
BEGIN:VEVENT
DTSTART;TZID=America/New_York:20260424T100000
DTEND;TZID=America/New_York:20260424T170000
DTSTAMP:20260424T013529
CREATED:20260330T153951Z
LAST-MODIFIED:20260330T153951Z
UID:11423-1777024800-1777050000@www.artswilmington.org
SUMMARY:Annual Ikebana Exhibit
DESCRIPTION:Join us for the Annual Ikebana Exhibit\, an exquisite celebration of the Japanese art of flower arrangement\, hosted by Wilmington Chapter 212 of Ikebana International. This highly anticipated event will take place on Friday\, April 24\, from 1:00 PM to 5:00 PM\, and Saturday\, April 25\, from 10:00 AM to 4:00 PM\, at the NHC Arboretum Auditorium\, located at 6206 Oleander Dr.\, Wilmington\, NC. \nAdmission to the exhibit is FREE! \nExperience the beauty and tranquility of Ikebana as talented practitioners showcase their floral artistry. Enhancing the experience will be live demonstrations on Saturday at 12:00 PM and 1:30 PM\, where attendees can witness the delicate and precise techniques that define this captivating art form. \nWe are also excited to welcome our esteemed guest\, The Cape Fear Bonsai Society\, whose impressive miniature tree displays will complement the floral arrangements and enrich the cultural experience. \nThis event is an excellent opportunity to ENJOY\, LEARN\, and JOIN the vibrant community of Ikebana enthusiasts. Whether you are a long-time admirer or new to the art\, there will be something for everyone to appreciate. \nDon’t miss out on this unique opportunity to immerse yourself in the elegance of Ikebana. Mark your calendars and bring your friends and family!
URL:https://www.artswilmington.org/event/annual-ikebana-exhibit/
LOCATION:New Hanover County Arboretum\, 6206 Oleander Drive\, Wilmington\, NC\, 28403\, United States
CATEGORIES:Visual Arts
ATTACH;FMTTYPE=image/png:https://www.artswilmington.org/wp-content/uploads/2026/03/Ikebana-Exhibition-2026-3-22-2026-Social-DRAFT-2-1.png
ORGANIZER;CN="Wilmington Chapter 212 Ikebana International":MAILTO:ejkaplan5@gmail.com
END:VEVENT
BEGIN:VEVENT
DTSTART;TZID=America/New_York:20260424T160000
DTEND;TZID=America/New_York:20260424T190000
DTSTAMP:20260424T013529
CREATED:20260319T210535Z
LAST-MODIFIED:20260319T210535Z
UID:11326-1777046400-1777057200@www.artswilmington.org
SUMMARY:Cinematique presents "Citizen Kane" at Jengo's Playhouse
DESCRIPTION:Cinematique is back! Join us for the first Cinematique at Jengo’s screening with the film that started it all- Citizen Kane! Join us for the kick-off of the re-imagined Cinematique\, hosted by WHQR and the Cucalorus Film Foundation. Stay after the 4pm matinee or show up early for the 7:30pm screening to enjoy the Cinematique Social Hour from 6pm-7:15pm in the Jengo’s Bar (we’ll provide the snacks!) After the second screening\, Todd Berliner\, Professor of Film Studies at UNCW\, will discuss the profound impact Orson Wells’ film had on filmmaking. \nNewspaper magnate Charles Foster Kane is taken from his mother as a boy and made the ward of a rich industrialist. As a result\, every well-meaning\, tyrannical or self-destructive move he makes for the rest of his life appears in some way to be a reaction to that deeply wounding event.
URL:https://www.artswilmington.org/event/cinematique-presents-citizen-kane-at-jengos-playhouse/
LOCATION:Jengo’s Playhouse\, 815 Princess Street\, Wilmington\, 28401
CATEGORIES:Film
ORGANIZER;CN="Cucalorus Film Foundation":MAILTO:comm@cucalorus.org
END:VEVENT
END:VCALENDAR