BEGIN:VCALENDAR
VERSION:2.0
PRODID:-//The Arts Council Of Wilmington/NHC - ECPv6.15.20//NONSGML v1.0//EN
CALSCALE:GREGORIAN
METHOD:PUBLISH
X-WR-CALNAME:The Arts Council Of Wilmington/NHC
X-ORIGINAL-URL:https://www.artswilmington.org
X-WR-CALDESC:Events for The Arts Council Of Wilmington/NHC
REFRESH-INTERVAL;VALUE=DURATION:PT1H
X-Robots-Tag:noindex
X-PUBLISHED-TTL:PT1H
BEGIN:VTIMEZONE
TZID:America/New_York
BEGIN:DAYLIGHT
TZOFFSETFROM:-0500
TZOFFSETTO:-0400
TZNAME:EDT
DTSTART:20240310T070000
END:DAYLIGHT
BEGIN:STANDARD
TZOFFSETFROM:-0400
TZOFFSETTO:-0500
TZNAME:EST
DTSTART:20241103T060000
END:STANDARD
BEGIN:DAYLIGHT
TZOFFSETFROM:-0500
TZOFFSETTO:-0400
TZNAME:EDT
DTSTART:20250309T070000
END:DAYLIGHT
BEGIN:STANDARD
TZOFFSETFROM:-0400
TZOFFSETTO:-0500
TZNAME:EST
DTSTART:20251102T060000
END:STANDARD
BEGIN:DAYLIGHT
TZOFFSETFROM:-0500
TZOFFSETTO:-0400
TZNAME:EDT
DTSTART:20260308T070000
END:DAYLIGHT
BEGIN:STANDARD
TZOFFSETFROM:-0400
TZOFFSETTO:-0500
TZNAME:EST
DTSTART:20261101T060000
END:STANDARD
END:VTIMEZONE
BEGIN:VEVENT
DTSTART;TZID=America/New_York:20250814T190000
DTEND;TZID=America/New_York:20250814T210000
DTSTAMP:20260423T142959
CREATED:20250805T153645Z
LAST-MODIFIED:20250805T153645Z
UID:10313-1755198000-1755205200@www.artswilmington.org
SUMMARY:Lyrics and Verse Featuring SolTree Reign
DESCRIPTION:WHQR and SpeakYaPeace NC Present: Lyrics and Verse Featuring SolTree Reign\, a night of live music\, poetry and art celebrating James Baldwin’s Birthday\, happening August 14 at 7pm in the MC Erny Gallery at WHQR!\nRSVP to this event by emailing rsvp@whqr.org or by calling (910) 343-1640 ext. 203! ($10 suggested donation)\nFounded by Brooklyn-born\, poet and artist Carrie Assata\, SpeakYaPeace NC is a movement where poetry\, music\, and truth-telling build community and spark change. \nAt the center of that movement is SolTree Reign—a 5-piece band blending R&B\, soul\, and spoken word into a vibe that’s part movement\, part meditation. \nSolTree Reign features: \nMahlaynee Cooper – Vocals + Spoken Word\nRoyce Williams – Keys\nMike Hanson – Master Conga playa / Original Last Poet\nJunious Fulton – Drums\nRobert Bellamy (ScaleHamHawk Da Poet) – Percussion + Spoken Word\nAdditionally Featuring:\n“Prism” – visual art by Taisha Benjamin \nJoin SolTree Reign and Speak Ya Peace NC in bringing an unforgettable night of live music\, poetry\, and power to the MC Erny Gallery — honoring the legacy and brilliance of James Baldwin. \nThe MC Erny Gallery at WHQR is located at 254 N. Front Street\, 3rd floor.
URL:https://www.artswilmington.org/event/lyrics-and-verse-featuring-soltree-reign-3/
LOCATION:McErny Gallery at WHQR\, 254 North Front Street\, Suite 300\, Wilmington\, 28401\, United States
CATEGORIES:Events,Literary,Music
ATTACH;FMTTYPE=image/png:https://www.artswilmington.org/wp-content/uploads/2025/08/lyrics-and-verse-1.png
ORGANIZER;CN="WHQR":MAILTO:webservices@whqr.org
END:VEVENT
END:VCALENDAR